BEGIN:VCALENDAR
VERSION:2.0
PRODID:-//Glebe Harbor - Cabin Point - ECPv6.15.20//NONSGML v1.0//EN
CALSCALE:GREGORIAN
METHOD:PUBLISH
X-ORIGINAL-URL:https://gh-cp.org
X-WR-CALDESC:Events for Glebe Harbor - Cabin Point
REFRESH-INTERVAL;VALUE=DURATION:PT1H
X-Robots-Tag:noindex
X-PUBLISHED-TTL:PT1H
BEGIN:VTIMEZONE
TZID:America/New_York
BEGIN:DAYLIGHT
TZOFFSETFROM:-0500
TZOFFSETTO:-0400
TZNAME:EDT
DTSTART:20200308T070000
END:DAYLIGHT
BEGIN:STANDARD
TZOFFSETFROM:-0400
TZOFFSETTO:-0500
TZNAME:EST
DTSTART:20201101T060000
END:STANDARD
BEGIN:DAYLIGHT
TZOFFSETFROM:-0500
TZOFFSETTO:-0400
TZNAME:EDT
DTSTART:20210314T070000
END:DAYLIGHT
BEGIN:STANDARD
TZOFFSETFROM:-0400
TZOFFSETTO:-0500
TZNAME:EST
DTSTART:20211107T060000
END:STANDARD
BEGIN:DAYLIGHT
TZOFFSETFROM:-0500
TZOFFSETTO:-0400
TZNAME:EDT
DTSTART:20220313T070000
END:DAYLIGHT
BEGIN:STANDARD
TZOFFSETFROM:-0400
TZOFFSETTO:-0500
TZNAME:EST
DTSTART:20221106T060000
END:STANDARD
BEGIN:DAYLIGHT
TZOFFSETFROM:-0500
TZOFFSETTO:-0400
TZNAME:EDT
DTSTART:20230312T070000
END:DAYLIGHT
BEGIN:STANDARD
TZOFFSETFROM:-0400
TZOFFSETTO:-0500
TZNAME:EST
DTSTART:20231105T060000
END:STANDARD
END:VTIMEZONE
BEGIN:VEVENT
DTSTART;TZID=America/New_York:20220503T180000
DTEND;TZID=America/New_York:20220503T180000
DTSTAMP:20260420T230902
CREATED:20220415T163522Z
LAST-MODIFIED:20220415T163522Z
UID:63077-1651600800-1651600800@gh-cp.org
SUMMARY:NO Happy Hour on May 3rd!!
DESCRIPTION:
URL:https://gh-cp.org/event/no-happy-hour-on-may-3rd/
END:VEVENT
BEGIN:VEVENT
DTSTART;TZID=America/New_York:20220426T180000
DTEND;TZID=America/New_York:20220426T200000
DTSTAMP:20260420T230902
CREATED:20220324T194001Z
LAST-MODIFIED:20220422T183217Z
UID:62627-1650996000-1651003200@gh-cp.org
SUMMARY:Happy Hour in the Club House
DESCRIPTION:Hosted by John & Kathy Gold.
URL:https://gh-cp.org/event/happy-hour-in-the-clubhouse-3/
END:VEVENT
BEGIN:VEVENT
DTSTART;TZID=America/New_York:20220422T113000
DTEND;TZID=America/New_York:20220422T130000
DTSTAMP:20260420T230902
CREATED:20220408T175827Z
LAST-MODIFIED:20220408T175827Z
UID:62916-1650627000-1650632400@gh-cp.org
SUMMARY:April Birthday Luncheon
DESCRIPTION:Birthday lunch will be April 22nd at 11:30am this month so the Red Hatters can make it. \nSince it’s baseball season we will go to the Squirrel’s Nest\, 330 Prince St.\, Tappahannock. \nWear your favorite team shirt\, or not\, and come celebrate your birthday or someone elses. \nContact Linda Steele via email or phone if you want to go\, steelelk59@gmail.com 804-472-8982\, by Wednesday April 20th. \nHope you can make it.
URL:https://gh-cp.org/event/april-birthday-luncheon/
END:VEVENT
BEGIN:VEVENT
DTSTART;TZID=America/New_York:20220419T180000
DTEND;TZID=America/New_York:20220419T200000
DTSTAMP:20260420T230902
CREATED:20220324T193914Z
LAST-MODIFIED:20220415T161847Z
UID:62625-1650391200-1650398400@gh-cp.org
SUMMARY:Happy Hour in the Club House - Soup & Bread Line
DESCRIPTION:Bring a soup\, bread or dessert to share.   We will be collecting monetary donations for Ukraine.
URL:https://gh-cp.org/event/happy-hour-in-the-clubhouse-2/
END:VEVENT
BEGIN:VEVENT
DTSTART;TZID=America/New_York:20220412T180000
DTEND;TZID=America/New_York:20220412T200000
DTSTAMP:20260420T230902
CREATED:20220324T193837Z
LAST-MODIFIED:20220412T160603Z
UID:62623-1649786400-1649793600@gh-cp.org
SUMMARY:Happy Hour in the Club House
DESCRIPTION:New Time: 6-8pm!!!  Hosted by the Zwirner’s.
URL:https://gh-cp.org/event/happy-hour-in-the-clubhouse/
END:VEVENT
BEGIN:VEVENT
DTSTART;TZID=America/New_York:20220411T190000
DTEND;TZID=America/New_York:20220411T203000
DTSTAMP:20260420T230902
CREATED:20220408T181023Z
LAST-MODIFIED:20220408T181023Z
UID:62918-1649703600-1649709000@gh-cp.org
SUMMARY:GHCP Association Board Meeting
DESCRIPTION:If interested in attending\, check with the clubhouse office for meeting location & format.
URL:https://gh-cp.org/event/ghcp-association-board-meeting-7/
END:VEVENT
BEGIN:VEVENT
DTSTART;TZID=America/New_York:20220405T170000
DTEND;TZID=America/New_York:20220405T190000
DTSTAMP:20260420T230902
CREATED:20220324T193750Z
LAST-MODIFIED:20220403T182516Z
UID:62621-1649178000-1649185200@gh-cp.org
SUMMARY:Happy Hour in Club House
DESCRIPTION:Hosted by Kathy and John Gold.
URL:https://gh-cp.org/event/happy-hour-in-clubhouse/
END:VEVENT
BEGIN:VEVENT
DTSTART;TZID=America/New_York:20220329T170000
DTEND;TZID=America/New_York:20220329T190000
DTSTAMP:20260420T230902
CREATED:20220307T213500Z
LAST-MODIFIED:20220325T161102Z
UID:62368-1648573200-1648580400@gh-cp.org
SUMMARY:Happy Hour in Club House
DESCRIPTION:Hosted by Dot & Bill Spencer.
URL:https://gh-cp.org/event/happy-hour-in-club-house-12/
END:VEVENT
BEGIN:VEVENT
DTSTART;TZID=America/New_York:20220322T170000
DTEND;TZID=America/New_York:20220322T190000
DTSTAMP:20260420T230902
CREATED:20220307T213421Z
LAST-MODIFIED:20220320T182638Z
UID:62366-1647968400-1647975600@gh-cp.org
SUMMARY:Happy Hour in Club House
DESCRIPTION:Hosted by C.C. and Angi Murphy.
URL:https://gh-cp.org/event/happy-hour-in-club-house-11/
END:VEVENT
BEGIN:VEVENT
DTSTART;TZID=America/New_York:20220318T113000
DTEND;TZID=America/New_York:20220318T130000
DTSTAMP:20260420T230902
CREATED:20220310T212457Z
LAST-MODIFIED:20220310T212457Z
UID:62433-1647603000-1647608400@gh-cp.org
SUMMARY:March Birthday Luncheon
DESCRIPTION:Birthday luncheon will resume this month on Friday\, March 18th\, at Bobby K’s Roadside Cafe\, 4099 Kings Hwy. Colonial Beach. \nWe will meet at 11:30 am. Please let Linda Steele know if you are coming so she can get a head count: steelelk59@gmail.com.
URL:https://gh-cp.org/event/march-birthday-luncheon/
END:VEVENT
BEGIN:VEVENT
DTSTART;TZID=America/New_York:20220315T170000
DTEND;TZID=America/New_York:20220315T190000
DTSTAMP:20260420T230902
CREATED:20220307T213355Z
LAST-MODIFIED:20220312T194010Z
UID:62364-1647363600-1647370800@gh-cp.org
SUMMARY:Happy Hour in Club House
DESCRIPTION:St. Patrick’s Day Celebration!!  Hosted by Jenny Fortney\, Dee & Bob McNally\, and Karen & Mike Ramming.
URL:https://gh-cp.org/event/happy-hour-in-club-house-10/
END:VEVENT
BEGIN:VEVENT
DTSTART;TZID=America/New_York:20220314T190000
DTEND;TZID=America/New_York:20220314T203000
DTSTAMP:20260420T230902
CREATED:20220227T185009Z
LAST-MODIFIED:20220227T185053Z
UID:62242-1647284400-1647289800@gh-cp.org
SUMMARY:GHCP Association Board Meeting
DESCRIPTION:If interested in attending\, check with clubhouse office for meeting location & format.
URL:https://gh-cp.org/event/ghcp-association-board-meeting-6/
END:VEVENT
BEGIN:VEVENT
DTSTART;TZID=America/New_York:20220310T140000
DTEND;TZID=America/New_York:20220310T170000
DTSTAMP:20260420T230902
CREATED:20220227T185500Z
LAST-MODIFIED:20220227T185500Z
UID:62245-1646920800-1646931600@gh-cp.org
SUMMARY:Paint (oil) & Sip Class
DESCRIPTION:Thursday\, 3/10.  2-5pm.  $35 per person.  RSVP – Teresa Edwards @ 804.214.1961.
URL:https://gh-cp.org/event/paint-oil-sip-class/
END:VEVENT
BEGIN:VEVENT
DTSTART;TZID=America/New_York:20220308T170000
DTEND;TZID=America/New_York:20220308T190000
DTSTAMP:20260420T230902
CREATED:20220307T213323Z
LAST-MODIFIED:20220307T213323Z
UID:62362-1646758800-1646766000@gh-cp.org
SUMMARY:Happy Hour in Club House
DESCRIPTION:Hosted by Susan and Charles Ewing.
URL:https://gh-cp.org/event/happy-hour-in-club-house-9/
END:VEVENT
BEGIN:VEVENT
DTSTART;TZID=America/New_York:20220301T170000
DTEND;TZID=America/New_York:20220301T190000
DTSTAMP:20260420T230902
CREATED:20220227T184910Z
LAST-MODIFIED:20220227T184910Z
UID:62240-1646154000-1646161200@gh-cp.org
SUMMARY:No Happy Hour
DESCRIPTION:Happy Hour Gatherings are temporarily suspended.
URL:https://gh-cp.org/event/no-happy-hour-8/
END:VEVENT
BEGIN:VEVENT
DTSTART;TZID=America/New_York:20220222T170000
DTEND;TZID=America/New_York:20220222T190000
DTSTAMP:20260420T230902
CREATED:20220127T212228Z
LAST-MODIFIED:20220127T212228Z
UID:61970-1645549200-1645556400@gh-cp.org
SUMMARY:No Happy Hour
DESCRIPTION:Happy Hour Gatherings are temporarily suspended.
URL:https://gh-cp.org/event/no-happy-hour-7/
END:VEVENT
BEGIN:VEVENT
DTSTART;TZID=America/New_York:20220217T190000
DTEND;TZID=America/New_York:20220217T203000
DTSTAMP:20260420T230902
CREATED:20220127T212649Z
LAST-MODIFIED:20220127T212649Z
UID:61972-1645124400-1645129800@gh-cp.org
SUMMARY:GHCP Association Board Meeting
DESCRIPTION:If interested in attending\, check with clubhouse office for meeting location & format.
URL:https://gh-cp.org/event/ghcp-association-board-meeting-5/
END:VEVENT
BEGIN:VEVENT
DTSTART;TZID=America/New_York:20220215T170000
DTEND;TZID=America/New_York:20220215T190000
DTSTAMP:20260420T230902
CREATED:20220127T212134Z
LAST-MODIFIED:20220127T212134Z
UID:61968-1644944400-1644951600@gh-cp.org
SUMMARY:No Happy Hour
DESCRIPTION:Happy Hour Gatherings are temporarily suspended.
URL:https://gh-cp.org/event/no-happy-hour-6/
END:VEVENT
BEGIN:VEVENT
DTSTART;TZID=America/New_York:20220210T140000
DTEND;TZID=America/New_York:20220210T170000
DTSTAMP:20260420T230902
CREATED:20220106T194300Z
LAST-MODIFIED:20220106T194300Z
UID:61678-1644501600-1644512400@gh-cp.org
SUMMARY:Paint (oil) & Sip Class Starts
DESCRIPTION:New Start Date: Thursday\, 2/10.  2-5pm.  $35 per person.  RSVP – Teresa Edwards @ 804.214.1961.
URL:https://gh-cp.org/event/paint-oil-sip-class-starts/
END:VEVENT
BEGIN:VEVENT
DTSTART;TZID=America/New_York:20220208T170000
DTEND;TZID=America/New_York:20220208T190000
DTSTAMP:20260420T230902
CREATED:20220127T212054Z
LAST-MODIFIED:20220127T212054Z
UID:61966-1644339600-1644346800@gh-cp.org
SUMMARY:No Happy Hour
DESCRIPTION:Happy Hour Gatherings are temporarily suspended.
URL:https://gh-cp.org/event/no-happy-hour-5/
END:VEVENT
BEGIN:VEVENT
DTSTART;TZID=America/New_York:20220201T170000
DTEND;TZID=America/New_York:20220201T190000
DTSTAMP:20260420T230902
CREATED:20220127T211908Z
LAST-MODIFIED:20220127T212004Z
UID:61963-1643734800-1643742000@gh-cp.org
SUMMARY:No Happy Hour
DESCRIPTION:Happy Hour Gatherings are temporarily suspended.
URL:https://gh-cp.org/event/no-happy-hour-4/
END:VEVENT
BEGIN:VEVENT
DTSTART;TZID=America/New_York:20220125T170000
DTEND;TZID=America/New_York:20220125T190000
DTSTAMP:20260420T230902
CREATED:20220106T192347Z
LAST-MODIFIED:20220120T214747Z
UID:61675-1643130000-1643137200@gh-cp.org
SUMMARY:No Happy Hour
DESCRIPTION:Happy Hour Gatherings are temporarily suspended.
URL:https://gh-cp.org/event/no-happy-hour-3/
END:VEVENT
BEGIN:VEVENT
DTSTART;TZID=America/New_York:20220118T170000
DTEND;TZID=America/New_York:20220118T190000
DTSTAMP:20260420T230902
CREATED:20220106T192250Z
LAST-MODIFIED:20220120T214722Z
UID:61673-1642525200-1642532400@gh-cp.org
SUMMARY:No Happy Hour
DESCRIPTION:Happy Hour Gatherings are temporarily suspended.
URL:https://gh-cp.org/event/no-happy-hours/
END:VEVENT
BEGIN:VEVENT
DTSTART;TZID=America/New_York:20220111T170000
DTEND;TZID=America/New_York:20220111T190000
DTSTAMP:20260420T230902
CREATED:20220106T192206Z
LAST-MODIFIED:20220120T214612Z
UID:61671-1641920400-1641927600@gh-cp.org
SUMMARY:No Happy Hour
DESCRIPTION:Happy Hour Gatherings are temporarily suspended.
URL:https://gh-cp.org/event/no-happy-hour-2/
END:VEVENT
BEGIN:VEVENT
DTSTART;TZID=America/New_York:20220104T170000
DTEND;TZID=America/New_York:20220104T190000
DTSTAMP:20260420T230902
CREATED:20220106T192105Z
LAST-MODIFIED:20220120T214643Z
UID:61669-1641315600-1641322800@gh-cp.org
SUMMARY:No Happy Hour
DESCRIPTION:Happy Hour Gatherings are temporarily suspended.
URL:https://gh-cp.org/event/no-happy-hour/
END:VEVENT
BEGIN:VEVENT
DTSTART;TZID=America/New_York:20211231T200000
DTEND;TZID=America/New_York:20220101T003000
DTSTAMP:20260420T230902
CREATED:20211124T204245Z
LAST-MODIFIED:20211124T204245Z
UID:61107-1640980800-1640997000@gh-cp.org
SUMMARY:New Year's Eve Party
DESCRIPTION:
URL:https://gh-cp.org/event/new-years-eve-party/
END:VEVENT
BEGIN:VEVENT
DTSTART;TZID=America/New_York:20211228T170000
DTEND;TZID=America/New_York:20211228T190000
DTSTAMP:20260420T230902
CREATED:20211116T231630Z
LAST-MODIFIED:20211225T175945Z
UID:61011-1640710800-1640718000@gh-cp.org
SUMMARY:Happy Hour in Club House
DESCRIPTION:Hosted by Dot and Bill Spencer.
URL:https://gh-cp.org/event/happy-hour-in-club-house-8/
END:VEVENT
BEGIN:VEVENT
DTSTART;TZID=America/New_York:20211221T170000
DTEND;TZID=America/New_York:20211221T190000
DTSTAMP:20260420T230902
CREATED:20211116T231600Z
LAST-MODIFIED:20211220T192640Z
UID:61009-1640106000-1640113200@gh-cp.org
SUMMARY:Happy Hour in Club House
DESCRIPTION:Hosted by Janet Zwirner.
URL:https://gh-cp.org/event/happy-hour-in-club-house-7/
END:VEVENT
BEGIN:VEVENT
DTSTART;TZID=America/New_York:20211218T100000
DTEND;TZID=America/New_York:20211218T120000
DTSTAMP:20260420T230902
CREATED:20211116T231228Z
LAST-MODIFIED:20211203T012648Z
UID:61001-1639821600-1639828800@gh-cp.org
SUMMARY:Children's Holiday Open House
DESCRIPTION:
URL:https://gh-cp.org/event/childrens-christmas-open-house/
END:VEVENT
BEGIN:VEVENT
DTSTART;TZID=America/New_York:20211217T113000
DTEND;TZID=America/New_York:20211217T130000
DTSTAMP:20260420T230902
CREATED:20211209T200839Z
LAST-MODIFIED:20211209T200839Z
UID:61298-1639740600-1639746000@gh-cp.org
SUMMARY:December Birthday Luncheon
DESCRIPTION:The Birthday Lunch for December will be at Unique Experience Eatery; 8200 Northumberland Hwy.; Heathsville\, VA 22473. We will meet there on Dec. 17th at 11:30 am. Please let Linda Steele know if you are coming by Wed. Dec. 15. You can email Linda at\, steelelk59@gmail.com or call 804-472-8982. Come out and let’s celebrate everyone’s birthday this month. \n 
URL:https://gh-cp.org/event/december-birthday-luncheon/
END:VEVENT
END:VCALENDAR