BEGIN:VCALENDAR
VERSION:2.0
PRODID:-//Glebe Harbor - Cabin Point - ECPv6.15.20//NONSGML v1.0//EN
CALSCALE:GREGORIAN
METHOD:PUBLISH
X-ORIGINAL-URL:https://gh-cp.org
X-WR-CALDESC:Events for Glebe Harbor - Cabin Point
REFRESH-INTERVAL;VALUE=DURATION:PT1H
X-Robots-Tag:noindex
X-PUBLISHED-TTL:PT1H
BEGIN:VTIMEZONE
TZID:America/New_York
BEGIN:DAYLIGHT
TZOFFSETFROM:-0500
TZOFFSETTO:-0400
TZNAME:EDT
DTSTART:20250309T070000
END:DAYLIGHT
BEGIN:STANDARD
TZOFFSETFROM:-0400
TZOFFSETTO:-0500
TZNAME:EST
DTSTART:20251102T060000
END:STANDARD
BEGIN:DAYLIGHT
TZOFFSETFROM:-0500
TZOFFSETTO:-0400
TZNAME:EDT
DTSTART:20260308T070000
END:DAYLIGHT
BEGIN:STANDARD
TZOFFSETFROM:-0400
TZOFFSETTO:-0500
TZNAME:EST
DTSTART:20261101T060000
END:STANDARD
BEGIN:DAYLIGHT
TZOFFSETFROM:-0500
TZOFFSETTO:-0400
TZNAME:EDT
DTSTART:20270314T070000
END:DAYLIGHT
BEGIN:STANDARD
TZOFFSETFROM:-0400
TZOFFSETTO:-0500
TZNAME:EST
DTSTART:20271107T060000
END:STANDARD
END:VTIMEZONE
BEGIN:VEVENT
DTSTART;TZID=America/New_York:20260428T100000
DTEND;TZID=America/New_York:20260428T130000
DTSTAMP:20260424T034043
CREATED:20260401T151734Z
LAST-MODIFIED:20260401T151734Z
UID:106617-1777370400-1777381200@gh-cp.org
SUMMARY:Rivah Readers
DESCRIPTION:This group is full. Please get in touch with club organizer to be put on a waitlist.
URL:https://gh-cp.org/event/rivah-readers-21/
LOCATION:The Lounge
CATEGORIES:Regularly Scheduled events at the Clubhouse
ORGANIZER;CN="Courtney Geer":MAILTO:cdgeer@aol.com
END:VEVENT
BEGIN:VEVENT
DTSTART;TZID=America/New_York:20260428T173000
DTEND;TZID=America/New_York:20260428T193000
DTSTAMP:20260424T034043
CREATED:20260421T145005Z
LAST-MODIFIED:20260421T145005Z
UID:106808-1777397400-1777404600@gh-cp.org
SUMMARY:Happy Hour
DESCRIPTION:
URL:https://gh-cp.org/event/happy-hour-127/
LOCATION:The Clubhouse\, 751 Glebe Harbor Drive\, Montross\, VA\, 22520\, United States
CATEGORIES:Regularly Scheduled events at the Clubhouse
ORGANIZER;CN="Dave Edmonson":MAILTO:doctorwhom22301@gmail.com
END:VEVENT
BEGIN:VEVENT
DTSTART;TZID=America/New_York:20260429T093000
DTEND;TZID=America/New_York:20260429T103000
DTSTAMP:20260424T034043
CREATED:20260422T161609Z
LAST-MODIFIED:20260422T161609Z
UID:106818-1777455000-1777458600@gh-cp.org
SUMMARY:Chair Exercise
DESCRIPTION:
URL:https://gh-cp.org/event/chair-exercise-23/
LOCATION:Billiards Room
CATEGORIES:Regularly Scheduled events at the Clubhouse
ORGANIZER;CN="Dot Spencer":MAILTO:dorothy.r.spencer@gmail.com
END:VEVENT
BEGIN:VEVENT
DTSTART;TZID=America/New_York:20260430T090000
DTEND;TZID=America/New_York:20260430T093000
DTSTAMP:20260424T034043
CREATED:20260422T161650Z
LAST-MODIFIED:20260422T161650Z
UID:106820-1777539600-1777541400@gh-cp.org
SUMMARY:Ballet
DESCRIPTION:
URL:https://gh-cp.org/event/ballet-227/
LOCATION:Billiards Room
CATEGORIES:Regularly Scheduled events at the Clubhouse
ORGANIZER;CN="Linda Boatman":MAILTO:lsbpainter@gmail.com
END:VEVENT
BEGIN:VEVENT
DTSTART;TZID=America/New_York:20260430T173000
DTEND;TZID=America/New_York:20260430T220000
DTSTAMP:20260424T034043
CREATED:20260422T161734Z
LAST-MODIFIED:20260422T161734Z
UID:106822-1777570200-1777586400@gh-cp.org
SUMMARY:Billiards
DESCRIPTION:
URL:https://gh-cp.org/event/billiards-78/
LOCATION:Billiards Room
CATEGORIES:Regularly Scheduled events at the Clubhouse
ORGANIZER;CN="Rebecca Skinner":MAILTO:r_skinner09@icloud.com
END:VEVENT
BEGIN:VEVENT
DTSTART;TZID=America/New_York:20260501T093000
DTEND;TZID=America/New_York:20260501T103000
DTSTAMP:20260424T034043
CREATED:20260422T161848Z
LAST-MODIFIED:20260422T161848Z
UID:106824-1777627800-1777631400@gh-cp.org
SUMMARY:Chair Exercise
DESCRIPTION:
URL:https://gh-cp.org/event/chair-exercise-24/
LOCATION:Billiards Room
CATEGORIES:Regularly Scheduled events at the Clubhouse
ORGANIZER;CN="Dot Spencer":MAILTO:dorothy.r.spencer@gmail.com
END:VEVENT
END:VCALENDAR