BEGIN:VCALENDAR
VERSION:2.0
PRODID:-//Glebe Harbor - Cabin Point - ECPv6.15.20//NONSGML v1.0//EN
CALSCALE:GREGORIAN
METHOD:PUBLISH
X-ORIGINAL-URL:https://gh-cp.org
X-WR-CALDESC:Events for Glebe Harbor - Cabin Point
REFRESH-INTERVAL;VALUE=DURATION:PT1H
X-Robots-Tag:noindex
X-PUBLISHED-TTL:PT1H
BEGIN:VTIMEZONE
TZID:America/New_York
BEGIN:DAYLIGHT
TZOFFSETFROM:-0500
TZOFFSETTO:-0400
TZNAME:EDT
DTSTART:20140309T070000
END:DAYLIGHT
BEGIN:STANDARD
TZOFFSETFROM:-0400
TZOFFSETTO:-0500
TZNAME:EST
DTSTART:20141102T060000
END:STANDARD
BEGIN:DAYLIGHT
TZOFFSETFROM:-0500
TZOFFSETTO:-0400
TZNAME:EDT
DTSTART:20150308T070000
END:DAYLIGHT
BEGIN:STANDARD
TZOFFSETFROM:-0400
TZOFFSETTO:-0500
TZNAME:EST
DTSTART:20151101T060000
END:STANDARD
BEGIN:DAYLIGHT
TZOFFSETFROM:-0500
TZOFFSETTO:-0400
TZNAME:EDT
DTSTART:20160313T070000
END:DAYLIGHT
BEGIN:STANDARD
TZOFFSETFROM:-0400
TZOFFSETTO:-0500
TZNAME:EST
DTSTART:20161106T060000
END:STANDARD
BEGIN:DAYLIGHT
TZOFFSETFROM:-0500
TZOFFSETTO:-0400
TZNAME:EDT
DTSTART:20170312T070000
END:DAYLIGHT
BEGIN:STANDARD
TZOFFSETFROM:-0400
TZOFFSETTO:-0500
TZNAME:EST
DTSTART:20171105T060000
END:STANDARD
BEGIN:DAYLIGHT
TZOFFSETFROM:-0500
TZOFFSETTO:-0400
TZNAME:EDT
DTSTART:20180311T070000
END:DAYLIGHT
BEGIN:STANDARD
TZOFFSETFROM:-0400
TZOFFSETTO:-0500
TZNAME:EST
DTSTART:20181104T060000
END:STANDARD
BEGIN:DAYLIGHT
TZOFFSETFROM:-0500
TZOFFSETTO:-0400
TZNAME:EDT
DTSTART:20190310T070000
END:DAYLIGHT
BEGIN:STANDARD
TZOFFSETFROM:-0400
TZOFFSETTO:-0500
TZNAME:EST
DTSTART:20191103T060000
END:STANDARD
BEGIN:DAYLIGHT
TZOFFSETFROM:-0500
TZOFFSETTO:-0400
TZNAME:EDT
DTSTART:20200308T070000
END:DAYLIGHT
BEGIN:STANDARD
TZOFFSETFROM:-0400
TZOFFSETTO:-0500
TZNAME:EST
DTSTART:20201101T060000
END:STANDARD
BEGIN:DAYLIGHT
TZOFFSETFROM:-0500
TZOFFSETTO:-0400
TZNAME:EDT
DTSTART:20210314T070000
END:DAYLIGHT
BEGIN:STANDARD
TZOFFSETFROM:-0400
TZOFFSETTO:-0500
TZNAME:EST
DTSTART:20211107T060000
END:STANDARD
BEGIN:DAYLIGHT
TZOFFSETFROM:-0500
TZOFFSETTO:-0400
TZNAME:EDT
DTSTART:20220313T070000
END:DAYLIGHT
BEGIN:STANDARD
TZOFFSETFROM:-0400
TZOFFSETTO:-0500
TZNAME:EST
DTSTART:20221106T060000
END:STANDARD
BEGIN:DAYLIGHT
TZOFFSETFROM:-0500
TZOFFSETTO:-0400
TZNAME:EDT
DTSTART:20230312T070000
END:DAYLIGHT
BEGIN:STANDARD
TZOFFSETFROM:-0400
TZOFFSETTO:-0500
TZNAME:EST
DTSTART:20231105T060000
END:STANDARD
BEGIN:DAYLIGHT
TZOFFSETFROM:-0500
TZOFFSETTO:-0400
TZNAME:EDT
DTSTART:20240310T070000
END:DAYLIGHT
BEGIN:STANDARD
TZOFFSETFROM:-0400
TZOFFSETTO:-0500
TZNAME:EST
DTSTART:20241103T060000
END:STANDARD
BEGIN:DAYLIGHT
TZOFFSETFROM:-0500
TZOFFSETTO:-0400
TZNAME:EDT
DTSTART:20250309T070000
END:DAYLIGHT
BEGIN:STANDARD
TZOFFSETFROM:-0400
TZOFFSETTO:-0500
TZNAME:EST
DTSTART:20251102T060000
END:STANDARD
BEGIN:DAYLIGHT
TZOFFSETFROM:-0500
TZOFFSETTO:-0400
TZNAME:EDT
DTSTART:20260308T070000
END:DAYLIGHT
BEGIN:STANDARD
TZOFFSETFROM:-0400
TZOFFSETTO:-0500
TZNAME:EST
DTSTART:20261101T060000
END:STANDARD
BEGIN:DAYLIGHT
TZOFFSETFROM:-0500
TZOFFSETTO:-0400
TZNAME:EDT
DTSTART:20270314T070000
END:DAYLIGHT
BEGIN:STANDARD
TZOFFSETFROM:-0400
TZOFFSETTO:-0500
TZNAME:EST
DTSTART:20271107T060000
END:STANDARD
END:VTIMEZONE
BEGIN:VEVENT
DTSTART;TZID=America/New_York:20260406T190000
DTEND;TZID=America/New_York:20260406T200000
DTSTAMP:20260424T034554
CREATED:20260401T150024Z
LAST-MODIFIED:20260401T150257Z
UID:106602-1775502000-1775505600@gh-cp.org
SUMMARY:Neighborhood Watch Meeting
DESCRIPTION:Officer Felts of the Westmoreland County Sheriff”s Office will be meeting with us in the clubhouse to discuss the Neighborhood Watch program and its interaction with county law enforcement. All current Neighborhood Watch volunteers are encouraged to attend\, as well as other members of the community who may be interested. With the warm weather season (almost?) upon us\, we will see the annual influx of residents and guests present in our neighborhoods\, with added activity leading to possible concerns.\nThe Sheriff’s Department liaisons with Neighborhood Watch groups across the county\, and Officer Felts will provide guidance and answer questions about how to report unusual activity and communicate with his office.\nPlease contact Don Hess at hess.don@gmail.com with any questions.
URL:https://gh-cp.org/event/neighborhood-watch-meeting/
LOCATION:The Clubhouse\, 751 Glebe Harbor Drive\, Montross\, VA\, 22520\, United States
CATEGORIES:Meetings
END:VEVENT
BEGIN:VEVENT
DTSTART;TZID=America/New_York:20251206T093000
DTEND;TZID=America/New_York:20251206T113000
DTSTAMP:20260424T034554
CREATED:20250917T181749Z
LAST-MODIFIED:20250917T181749Z
UID:104564-1765013400-1765020600@gh-cp.org
SUMMARY:Membership Meeting
DESCRIPTION:
URL:https://gh-cp.org/event/membership-meeting-5/
LOCATION:The Clubhouse\, 751 Glebe Harbor Drive\, Montross\, VA\, 22520\, United States
CATEGORIES:Meetings
END:VEVENT
BEGIN:VEVENT
DTSTART;TZID=America/New_York:20250823T093000
DTEND;TZID=America/New_York:20250823T113000
DTSTAMP:20260424T034554
CREATED:20250804T185333Z
LAST-MODIFIED:20250804T185804Z
UID:103776-1755941400-1755948600@gh-cp.org
SUMMARY:General Membership Meeting
DESCRIPTION:
URL:https://gh-cp.org/event/general-membership-meeting-2/
LOCATION:The Clubhouse\, 751 Glebe Harbor Drive\, Montross\, VA\, 22520\, United States
CATEGORIES:Meetings,Regularly Scheduled events at the Clubhouse
END:VEVENT
BEGIN:VEVENT
DTSTART;TZID=America/New_York:20250607T093000
DTEND;TZID=America/New_York:20250607T113000
DTSTAMP:20260424T034554
CREATED:20250422T174941Z
LAST-MODIFIED:20250422T174941Z
UID:102444-1749288600-1749295800@gh-cp.org
SUMMARY:Membership Meeting
DESCRIPTION:
URL:https://gh-cp.org/event/membership-meeting-4/
LOCATION:The Clubhouse\, 751 Glebe Harbor Drive\, Montross\, VA\, 22520\, United States
CATEGORIES:Meetings
END:VEVENT
BEGIN:VEVENT
DTSTART;TZID=America/New_York:20250503T093000
DTEND;TZID=America/New_York:20250503T120000
DTSTAMP:20260424T034554
CREATED:20250415T151753Z
LAST-MODIFIED:20250415T162310Z
UID:101894-1746264600-1746273600@gh-cp.org
SUMMARY:New Member Orientation
DESCRIPTION:
URL:https://gh-cp.org/event/new-member-orientation-2/
LOCATION:The Clubhouse\, 751 Glebe Harbor Drive\, Montross\, VA\, 22520\, United States
CATEGORIES:Meetings,Parties
END:VEVENT
BEGIN:VEVENT
DTSTART;TZID=America/New_York:20250115T180000
DTEND;TZID=America/New_York:20250115T190000
DTSTAMP:20260424T034554
CREATED:20250110T165138Z
LAST-MODIFIED:20250110T165138Z
UID:93633-1736964000-1736967600@gh-cp.org
SUMMARY:GHCP Cares group meeting
DESCRIPTION:
URL:https://gh-cp.org/event/ghcp-cares-group-meeting/
LOCATION:The Lounge
CATEGORIES:Meetings
END:VEVENT
BEGIN:VEVENT
DTSTART;TZID=America/New_York:20241207T093000
DTEND;TZID=America/New_York:20241207T113000
DTSTAMP:20260424T034554
CREATED:20241030T173744Z
LAST-MODIFIED:20241030T174523Z
UID:92173-1733563800-1733571000@gh-cp.org
SUMMARY:Membership Meeting
DESCRIPTION:
URL:https://gh-cp.org/event/membership-meeting-3/
LOCATION:The Clubhouse\, 751 Glebe Harbor Drive\, Montross\, VA\, 22520\, United States
CATEGORIES:Meetings
END:VEVENT
BEGIN:VEVENT
DTSTART;TZID=America/New_York:20240824T093000
DTEND;TZID=America/New_York:20240824T113000
DTSTAMP:20260424T034554
CREATED:20240725T165142Z
LAST-MODIFIED:20240725T165308Z
UID:90197-1724491800-1724499000@gh-cp.org
SUMMARY:Membership Meeting
DESCRIPTION:
URL:https://gh-cp.org/event/membership-meeting-2/
LOCATION:The Clubhouse\, 751 Glebe Harbor Drive\, Montross\, VA\, 22520\, United States
CATEGORIES:Meetings
END:VEVENT
BEGIN:VEVENT
DTSTART;TZID=America/New_York:20240608T093000
DTEND;TZID=America/New_York:20240608T113000
DTSTAMP:20260424T034554
CREATED:20240424T152727Z
LAST-MODIFIED:20240424T152727Z
UID:87286-1717839000-1717846200@gh-cp.org
SUMMARY:Annual Board Meeting
DESCRIPTION:
URL:https://gh-cp.org/event/annual-board-meeting-2/
LOCATION:The Clubhouse\, 751 Glebe Harbor Drive\, Montross\, VA\, 22520\, United States
CATEGORIES:Meetings,Regularly Scheduled events at the Clubhouse
END:VEVENT
BEGIN:VEVENT
DTSTART;TZID=America/New_York:20240418T110000
DTEND;TZID=America/New_York:20240418T130000
DTSTAMP:20260424T034554
CREATED:20240308T170535Z
LAST-MODIFIED:20240308T170535Z
UID:85787-1713438000-1713445200@gh-cp.org
SUMMARY:Meet and Greet Committee Meeting
DESCRIPTION:
URL:https://gh-cp.org/event/meet-and-greet-committee-meeting/
LOCATION:The Lounge
CATEGORIES:Meetings
END:VEVENT
BEGIN:VEVENT
DTSTART;TZID=America/New_York:20240319T170000
DTEND;TZID=America/New_York:20240319T173000
DTSTAMP:20260424T034554
CREATED:20240308T180103Z
LAST-MODIFIED:20240308T180103Z
UID:85798-1710867600-1710869400@gh-cp.org
SUMMARY:Meet with Deputy Smith
DESCRIPTION:First Sergeant Antwan X. Smith\, the Westmoreland County liaison to our Neighborhood Watch Volunteers\, will be at the Clubhouse at 5 PM on Tuesday\, March 19th to meet with the watch volunteers and anyone else interested in a report of criminal activities in our community and surrounding communities.  At 5:30 PM\, also at the Clubhouse\, First Sergeant Smith will be presented with blankets and quilts designed and crafted by our neighborhood sewing volunteer group during our regularly scheduled “Happy Hour.”
URL:https://gh-cp.org/event/meet-with-deputy-smith/
LOCATION:The Clubhouse\, 751 Glebe Harbor Drive\, Montross\, VA\, 22520\, United States
CATEGORIES:Meetings
END:VEVENT
BEGIN:VEVENT
DTSTART;TZID=America/New_York:20160716T093000
DTEND;TZID=America/New_York:20160716T150000
DTSTAMP:20260424T034554
CREATED:20160706T180016Z
LAST-MODIFIED:20160706T180016Z
UID:699-1468661400-1468681200@gh-cp.org
SUMMARY:Board of Supervisors Public Hearing
DESCRIPTION:Public Hearing at the GHCPPOA Clubhouse to receive public comment on the proposed budget and user fee.
URL:https://gh-cp.org/event/board-of-supervisors-public-hearing/
LOCATION:VA
CATEGORIES:Meetings
END:VEVENT
BEGIN:VEVENT
DTSTART;TZID=America/New_York:20150714T160000
DTEND;TZID=America/New_York:20150714T200000
DTSTAMP:20260424T034554
CREATED:20150610T163158Z
LAST-MODIFIED:20150610T164423Z
UID:399-1436889600-1436904000@gh-cp.org
SUMMARY:Test Meeting
DESCRIPTION:This is an example of a meeting.
URL:https://gh-cp.org/event/test-meeting/
LOCATION:The Clubhouse\, 751 Glebe Harbor Drive\, Montross\, VA\, 22520\, United States
CATEGORIES:Meetings
END:VEVENT
BEGIN:VEVENT
DTSTART;TZID=America/New_York:20150530T093000
DTEND;TZID=America/New_York:20150530T110000
DTSTAMP:20260424T034554
CREATED:20150610T164031Z
LAST-MODIFIED:20150610T164031Z
UID:401-1432978200-1432983600@gh-cp.org
SUMMARY:Special Meeting of the General Membership
DESCRIPTION:The Board of Directors of the Glebe Harbor-Cabin Point Property Owners Association is calling for a Special Meeting of the General Membership on Saturday\, May 30\, 2015\,at 9:30 am\, at the Clubhouse. The purpose of the meeting is to discuss the allocation and use of the remaining funds previously approved by the membership for Phase 1 of the Dredging\, Shoreline Stabilization\, and Beach Nourishment project.
URL:https://gh-cp.org/event/special-meeting-of-the-general-membership/
LOCATION:The Clubhouse\, 751 Glebe Harbor Drive\, Montross\, VA\, 22520\, United States
CATEGORIES:Meetings
END:VEVENT
END:VCALENDAR